BEGIN:VCALENDAR
VERSION:2.0
PRODID:-//Denver Medical Society - ECPv6.15.20//NONSGML v1.0//EN
CALSCALE:GREGORIAN
METHOD:PUBLISH
X-WR-CALNAME:Denver Medical Society
X-ORIGINAL-URL:https://denvermedicalsociety.org
X-WR-CALDESC:Events for Denver Medical Society
REFRESH-INTERVAL;VALUE=DURATION:PT1H
X-Robots-Tag:noindex
X-PUBLISHED-TTL:PT1H
BEGIN:VTIMEZONE
TZID:America/Denver
BEGIN:DAYLIGHT
TZOFFSETFROM:-0700
TZOFFSETTO:-0600
TZNAME:MDT
DTSTART:20250309T090000
END:DAYLIGHT
BEGIN:STANDARD
TZOFFSETFROM:-0600
TZOFFSETTO:-0700
TZNAME:MST
DTSTART:20251102T080000
END:STANDARD
BEGIN:DAYLIGHT
TZOFFSETFROM:-0700
TZOFFSETTO:-0600
TZNAME:MDT
DTSTART:20260308T090000
END:DAYLIGHT
BEGIN:STANDARD
TZOFFSETFROM:-0600
TZOFFSETTO:-0700
TZNAME:MST
DTSTART:20261101T080000
END:STANDARD
BEGIN:DAYLIGHT
TZOFFSETFROM:-0700
TZOFFSETTO:-0600
TZNAME:MDT
DTSTART:20270314T090000
END:DAYLIGHT
BEGIN:STANDARD
TZOFFSETFROM:-0600
TZOFFSETTO:-0700
TZNAME:MST
DTSTART:20271107T080000
END:STANDARD
END:VTIMEZONE
BEGIN:VEVENT
DTSTART;TZID=America/Denver:20260211T160000
DTEND;TZID=America/Denver:20260211T200000
DTSTAMP:20260422T025259
CREATED:20260122T163543Z
LAST-MODIFIED:20260122T165342Z
UID:733-1770825600-1770840000@denvermedicalsociety.org
SUMMARY:Legislative Night
DESCRIPTION:Feb 2026 Legislative Night – JOIN US!  Register here: cms.org/legislative-event. This is your opportunity to meet your local legislators and ask them about their plans for supporting the medical community in Colorado. Begins at 4 p.m. with an optional meeting with legislators and Capitol photos\, then continues at 5:30 with a come-and-go Happy Hour at the University Club of Denver\, 1673 Sherman St\, Denver\, CO 80203
URL:https://denvermedicalsociety.org/event/legislative-night/
LOCATION:University Club of Denver\, 1673 Sherman St\, Denver\, CO\, 80203\, United States
END:VEVENT
END:VCALENDAR